BEGIN:VCALENDAR
VERSION:2.0
PRODID:-//Fraunhofer-Gesellschaft//Fraunhofer Institute for Material and Be
 am Technology IWS//ENGLISH
BEGIN:VEVENT
UID:a8cdddc0-1941-4b3a-adc6-04f61189ae37
DTSTAMP:20260128T021116Z
SUMMARY:14<sup>th</sup> International Summer School
DTSTART:20250825T070000Z
DTEND:20250829T120000Z
END:VEVENT
END:VCALENDAR
